BEGIN:VCALENDAR
VERSION:2.0
BEGIN:VEVENT
URL:https://burdekinhotel.oztix.com.au/outlet/event/f5abb70b-fd45-4038-ac6b-4b84afb648ff
DTSTART:20260620T123000Z
DTEND:20260620T123000Z
SUMMARY:You Seem Pretty Sad For A Girl So In Love Party - Sydney
DESCRIPTION:Event details: https://burdekinhotel.oztix.com.au/outlet/event/f5abb70b-fd45-4038-ac6b-4b84afb648ff
LOCATION:Burdekin Hotel (Darlinghurst, NSW)
END:VEVENT
END:VCALENDAR