BEGIN:VCALENDAR
VERSION:2.0
BEGIN:VEVENT
URL:https://burdekinhotel.oztix.com.au/outlet/event/e0080552-e348-4f6f-812f-f6a86dbb21c7
DTSTART:20260508T090000Z
DTEND:20260509T170000Z
SUMMARY:Junipero Jelly Wrestling Weekender
DESCRIPTION:Event details: https://burdekinhotel.oztix.com.au/outlet/event/e0080552-e348-4f6f-812f-f6a86dbb21c7
LOCATION:Burdekin Hotel (Darlinghurst, NSW)
END:VEVENT
END:VCALENDAR