BEGIN:VCALENDAR
VERSION:2.0
BEGIN:VEVENT
URL:https://burdekinhotel.oztix.com.au/outlet/event/c91aea71-12a9-4bed-97cd-a01c6fc9b41e
DTSTART:20260501T100000Z
DTEND:20260501T100000Z
SUMMARY:A NIGHT OF DUBSTEP ft. SAMPLIFIRE (France)
DESCRIPTION:Event details: https://burdekinhotel.oztix.com.au/outlet/event/c91aea71-12a9-4bed-97cd-a01c6fc9b41e
LOCATION:Burdekin Hotel (Darlinghurst, NSW)
END:VEVENT
END:VCALENDAR