BEGIN:VCALENDAR
VERSION:2.0
BEGIN:VEVENT
URL:https://burdekinhotel.oztix.com.au/outlet/event/95bd72f9-17c3-44d9-8a22-9ba0e870717c
DTSTART:20260522T100000Z
DTEND:20260522T100000Z
SUMMARY:WeLove & House TV
DESCRIPTION:Event details: https://burdekinhotel.oztix.com.au/outlet/event/95bd72f9-17c3-44d9-8a22-9ba0e870717c
LOCATION:Burdekin Hotel (Darlinghurst, NSW)
END:VEVENT
END:VCALENDAR