BEGIN:VCALENDAR
VERSION:2.0
BEGIN:VEVENT
URL:https://burdekinhotel.oztix.com.au/outlet/event/6b6a71bf-92a2-4bc8-a7e2-0410a7f4012c
DTSTART:20260516T110000Z
DTEND:20260516T110000Z
SUMMARY:GLISTEN PARTY
DESCRIPTION:Event details: https://burdekinhotel.oztix.com.au/outlet/event/6b6a71bf-92a2-4bc8-a7e2-0410a7f4012c
LOCATION:Burdekin Hotel (Darlinghurst, NSW)
END:VEVENT
END:VCALENDAR